BEGIN:VCALENDAR
VERSION:2.0
PRODID:-//wp-events-plugin.com//7.2.2.1//EN
TZID:Europe/Berlin
X-WR-TIMEZONE:Europe/Berlin
BEGIN:VEVENT
UID:2922@zappelino.de
DTSTART;TZID=Europe/Berlin:20260421T133000
DTEND;TZID=Europe/Berlin:20260421T153000
DTSTAMP:20260311T214340Z
URL:https://zappelino.de/veranstaltungen/mathematik-power-kurs-vorbereitun
 g-auf-die-realschul-abschlusspruefung-7-2026-04-07-2026-04-14-2026-04-21/
SUMMARY:Mathematik Power-Kurs Vorbereitung auf die Realschul-Abschlussprüf
 ung
DESCRIPTION:
ATTACH;FMTTYPE=image/jpeg:https://zappelino.de/wp-content/uploads/2026/02/
 logovhs.jpg
CATEGORIES:Bildung und Kultur
LOCATION:VHS Lauffen\, Bahnhofstr. 50\, Lauffen\, Deutschland
GEO:49.07639;9.14688
X-APPLE-STRUCTURED-LOCATION;VALUE=URI;X-ADDRESS=Bahnhofstr. 50\, Lauffen\, 
 Deutschland;X-APPLE-RADIUS=100;X-TITLE=VHS Lauffen:geo:49.07639,9.14688
END:VEVENT
BEGIN:VTIMEZONE
TZID:Europe/Berlin
X-LIC-LOCATION:Europe/Berlin
BEGIN:DAYLIGHT
DTSTART:20260329T030000
TZOFFSETFROM:+0100
TZOFFSETTO:+0200
TZNAME:CEST
END:DAYLIGHT
END:VTIMEZONE
END:VCALENDAR