BEGIN:VCALENDAR
VERSION:2.0
PRODID:-//wp-events-plugin.com//7.2.2.1//EN
TZID:Europe/Berlin
X-WR-TIMEZONE:Europe/Berlin
BEGIN:VEVENT
UID:2650@zappelino.de
DTSTART;TZID=Europe/Berlin:20260505T093000
DTEND;TZID=Europe/Berlin:20260505T113000
DTSTAMP:20260209T172823Z
URL:https://zappelino.de/veranstaltungen/mathematik-power-kurs-vorbereitun
 g-auf-die-realschul-abschlusspruefung-in-den-osterferien-3-2026-05-05/
SUMMARY:Mathematik Power-Kurs Vorbereitung auf die Realschul-Abschlussprüf
 ung - in den Osterferien
DESCRIPTION:Kursnummer: 261BF60710
ATTACH;FMTTYPE=image/jpeg:https://zappelino.de/wp-content/uploads/2026/02/
 logovhs.jpg
CATEGORIES:Bildung und Kultur
LOCATION:VHS Bad Friedrichshall\, Hauptstr. 4\, Bad Friedrichshall\, Deutsc
 hland
GEO:49.224879;9.217889
X-APPLE-STRUCTURED-LOCATION;VALUE=URI;X-ADDRESS=Hauptstr. 4\, Bad Friedrich
 shall\, Deutschland;X-APPLE-RADIUS=100;X-TITLE=VHS Bad Friedrichshall:geo:
 49.224879,9.217889
END:VEVENT
BEGIN:VTIMEZONE
TZID:Europe/Berlin
X-LIC-LOCATION:Europe/Berlin
BEGIN:DAYLIGHT
DTSTART:20260329T030000
TZOFFSETFROM:+0100
TZOFFSETTO:+0200
TZNAME:CEST
END:DAYLIGHT
END:VTIMEZONE
END:VCALENDAR