BEGIN:VCALENDAR
VERSION:2.0
PRODID:-//wp-events-plugin.com//7.2.2.1//EN
TZID:Europe/Berlin
X-WR-TIMEZONE:Europe/Berlin
BEGIN:VEVENT
UID:2238@zappelino.de
DTSTART;TZID=Europe/Berlin:20260503T150000
DTEND;TZID=Europe/Berlin:20260503T160000
DTSTAMP:20251215T214400Z
URL:https://zappelino.de/veranstaltungen/max-und-moritz/
SUMMARY:Max und Moritz
DESCRIPTION:„…aber wehe\, wehe wehe\, wenn ich auf das Ende sehe!“\n\
 nKeiner ist vor Max und Moritz sicher\, ob es nun der Bäcker oder der Leh
 rer ist. Ob\nder Onkel oder die Witwe Bolte\, alle haben unter den sieben 
 Streichen von Max und\nMoritz zu leiden. Hier sägen sie eine Brücke ent
 zwei\, dort stehlen sie die gebratenen\nHühner aus der Küche.\nNur Är
 ger hat man mit diesen zwei Rabauken und es entwickelt sich Unmut im\nDorf
 e. Ob es am Ende heißt: „Gott sei dank\, nun ist’s vorbei\, mit der 
 Übeltäterrei?“\,\ndas sei hier noch nicht verraten…\nDie bekannte Ge
 schichte frei nach „Wilhelm Busch“.\n\nEin Stück ganz in Reimform\, 
 gespielt mit Tischfiguren für Kinder ab 4 Jahren\n\nFiguren: Caecilia Ne
 uweiler / Robin Müther\nInszenierung: Robin Müther\, Reinhard M. Siegl
ATTACH;FMTTYPE=image/jpeg:https://zappelino.de/wp-content/uploads/2025/12/
 csm-max-und-moritz-a4429f6436.jpg
CATEGORIES:Marionettentheater, Puppentheater, Kasperltheater
LOCATION:Knurps Puppentheater\, Hauptstr. 36\, Möckmühl\, 74219\, Deutsch
 land
GEO:49.3238;9.36
X-APPLE-STRUCTURED-LOCATION;VALUE=URI;X-ADDRESS=Hauptstr. 36\, Möckmühl\,
  74219\, Deutschland;X-APPLE-RADIUS=100;X-TITLE=Knurps Puppentheater:geo:4
 9.3238,9.36
END:VEVENT
BEGIN:VTIMEZONE
TZID:Europe/Berlin
X-LIC-LOCATION:Europe/Berlin
BEGIN:DAYLIGHT
DTSTART:20260329T030000
TZOFFSETFROM:+0100
TZOFFSETTO:+0200
TZNAME:CEST
END:DAYLIGHT
END:VTIMEZONE
END:VCALENDAR