BEGIN:VCALENDAR
VERSION:2.0
PRODID:-//wp-events-plugin.com//7.2.2.1//EN
TZID:Europe/Berlin
X-WR-TIMEZONE:Europe/Berlin
BEGIN:VEVENT
UID:3150@zappelino.de
DTSTART;TZID=Europe/Berlin:20260508T150000
DTEND;TZID=Europe/Berlin:20260508T170000
DTSTAMP:20260406T201959Z
URL:https://zappelino.de/veranstaltungen/modellieren-mit-ton-fuer-kinder-a
 b-7-jahren-toepfern-zu-der-bilderbuchgeschichte-tao-von-else-schwenk-anger
 /
SUMMARY:Modellieren mit Ton für Kinder ab 7 Jahren Töpfern zu der Bilderb
 uchgeschichte "Tao" von Else Schwenk-Anger
DESCRIPTION:
ATTACH;FMTTYPE=image/jpeg:https://zappelino.de/wp-content/uploads/2025/02/
 vhs-logo.jpg
CATEGORIES:Kreatives
LOCATION:VHS Nordheim\, Hauptstraße 26\, Nordheim\, Deutschland
GEO:49.108327;9.128371
X-APPLE-STRUCTURED-LOCATION;VALUE=URI;X-ADDRESS=Hauptstraße 26\, Nordheim\
 , Deutschland;X-APPLE-RADIUS=100;X-TITLE=VHS Nordheim:geo:49.108327,9.1283
 71
END:VEVENT
BEGIN:VTIMEZONE
TZID:Europe/Berlin
X-LIC-LOCATION:Europe/Berlin
BEGIN:DAYLIGHT
DTSTART:20260329T030000
TZOFFSETFROM:+0100
TZOFFSETTO:+0200
TZNAME:CEST
END:DAYLIGHT
END:VTIMEZONE
END:VCALENDAR