BEGIN:VCALENDAR
VERSION:2.0
PRODID:-//wp-events-plugin.com//7.2.2.1//EN
TZID:Europe/Berlin
X-WR-TIMEZONE:Europe/Berlin
BEGIN:VEVENT
UID:3117@zappelino.de
DTSTART;TZID=Europe/Berlin:20260502T100000
DTEND;TZID=Europe/Berlin:20260502T113000
DTSTAMP:20260406T200300Z
URL:https://zappelino.de/veranstaltungen/nagelbilder-fuer-den-muttertag-fu
 er-kinder-von-6-8-jahren-2/
SUMMARY:Nagelbilder für den Muttertag für Kinder von 6 - 8 Jahren
DESCRIPTION:
ATTACH;FMTTYPE=image/jpeg:https://zappelino.de/wp-content/uploads/2025/02/
 vhs-logo.jpg
CATEGORIES:Kreatives
LOCATION:VHS Oedheim\, Schulgasse\, Oedheim\, Deutschland
GEO:49.239727;9.255909
X-APPLE-STRUCTURED-LOCATION;VALUE=URI;X-ADDRESS=Schulgasse\, Oedheim\, Deut
 schland;X-APPLE-RADIUS=100;X-TITLE=VHS Oedheim:geo:49.239727,9.255909
END:VEVENT
BEGIN:VTIMEZONE
TZID:Europe/Berlin
X-LIC-LOCATION:Europe/Berlin
BEGIN:DAYLIGHT
DTSTART:20260329T030000
TZOFFSETFROM:+0100
TZOFFSETTO:+0200
TZNAME:CEST
END:DAYLIGHT
END:VTIMEZONE
END:VCALENDAR