BEGIN:VCALENDAR
VERSION:2.0
PRODID:-//wp-events-plugin.com//7.2.2.1//EN
TZID:Europe/Berlin
X-WR-TIMEZONE:Europe/Berlin
BEGIN:VEVENT
UID:2762@zappelino.de
DTSTART;TZID=Europe/Berlin:20260621T103000
DTEND;TZID=Europe/Berlin:20260621T123000
DTSTAMP:20260216T143330Z
URL:https://zappelino.de/veranstaltungen/raeubertour-mit-vaetern-und-kinde
 rn/
SUMMARY:Räubertour mit Vätern und Kindern
DESCRIPTION:Ein spannendes Waldabenteuer mit der Märchenhexe Steffi. Räub
 er haben ihre kostbaren\, magischen Erzählsteine gestohlen und tief im Wa
 ld versteckt! Ohne sie bleiben ihre Geschichten stumm – doch mit Hilfe a
 ller Kinder könnte das Abenteuer gut ausgehen. Gemeinsam folgen sie der M
 ärchenhexe auf rätselhaften Spuren\, finden Hinweise\, die die Räuber h
 interlassen haben und entdecken dabei die versteckten Schätze. Im Wald er
 zählt Steffi spannende Räubergeschichten\, die die Kinder mitten hinein 
 in eine Welt voller Abenteuer\, listiger Gauner und geheimnisvoller Orte f
 ühren. Ein spannendes Erlebnis in der Natur\, voller Fantasie\, Kreativit
 ät und Entdeckungen.\n\nSpannende Märchenwanderung für Kinder ab 5 Jahr
 en mit Ihren Vätern/Großvätern.\n\nAnmeldung jeweils über das Haus der
  Familie HN: https://hdf-hn.de/kurse/?s=Ruber&amp\;limit=12&amp\;keyword=&
 amp\;kategorie_id=&amp\;thema_id=&amp\;fachb=&amp\;ortname=&amp\;beginndat
 =
ATTACH;FMTTYPE=image/jpeg:https://zappelino.de/wp-content/uploads/2026/02/
 raeuber-stefanie-keller-wortzauber-14-42206e6ede35fa05211608a6c576cd90.jpg
CATEGORIES:Kindertheater, Kinderkonzert,Kreatives,Natur
END:VEVENT
BEGIN:VTIMEZONE
TZID:Europe/Berlin
X-LIC-LOCATION:Europe/Berlin
BEGIN:DAYLIGHT
DTSTART:20260329T030000
TZOFFSETFROM:+0100
TZOFFSETTO:+0200
TZNAME:CEST
END:DAYLIGHT
END:VTIMEZONE
END:VCALENDAR