BEGIN:VCALENDAR
VERSION:2.0
PRODID:-//wp-events-plugin.com//7.2.2.1//EN
TZID:Europe/Berlin
X-WR-TIMEZONE:Europe/Berlin
BEGIN:VEVENT
UID:2712@zappelino.de
DTSTART;TZID=Europe/Berlin:20260927T150000
DTEND;TZID=Europe/Berlin:20260927T160000
DTSTAMP:20260213T121836Z
URL:https://zappelino.de/veranstaltungen/schneewittchen-19/
SUMMARY:Schneewittchen
DESCRIPTION:Wer kennt nicht das Märchen von dem Königskind\, dessen Haut 
 so weiß wie Schnee\, die Lippen so rot wie Blut und die Haare so schwarz 
 wie Ebenholz sind.\n\nVerstoßen und verfolgt von der bösen Stiefmutter w
 egen seiner Schönheit. Witzig\, mit viel Musik und mit Hilfe des Publikum
 s wird Schneewittchen am Ende bestimmt gerettet.\n\n&nbsp\;\n\nFür Kinder
  ab 4 Jahren
ATTACH;FMTTYPE=image/jpeg:https://zappelino.de/wp-content/uploads/2026/02/
 screenshot-2026-02-13-at-13-16-38-september-2026.jpg
CATEGORIES:Bildung und Kultur,Kindertheater,
 Kinderkonzert,Marionettentheater, Puppentheater, Kasperltheater
LOCATION:Knurps Puppentheater\, Hauptstraße 21 (Notariatsgebäude)\, Möck
 mühl\, 74219 \, Deutschland
GEO:49.323113;9.360867
X-APPLE-STRUCTURED-LOCATION;VALUE=URI;X-ADDRESS=Hauptstraße 21 (Notariatsg
 ebäude)\, Möckmühl\, 74219 \, Deutschland;X-APPLE-RADIUS=100;X-TITLE=Kn
 urps Puppentheater:geo:49.323113,9.360867
END:VEVENT
BEGIN:VTIMEZONE
TZID:Europe/Berlin
X-LIC-LOCATION:Europe/Berlin
BEGIN:DAYLIGHT
DTSTART:20260329T030000
TZOFFSETFROM:+0100
TZOFFSETTO:+0200
TZNAME:CEST
END:DAYLIGHT
END:VTIMEZONE
END:VCALENDAR