BEGIN:VCALENDAR
VERSION:2.0
PRODID:-//wp-events-plugin.com//7.2.2.1//EN
TZID:Europe/Berlin
X-WR-TIMEZONE:Europe/Berlin
BEGIN:VEVENT
UID:2351@zappelino.de
DTSTART;TZID=Europe/Berlin:20260416T000000
DTEND;TZID=Europe/Berlin:20260510T000000
DTSTAMP:20260211T213546Z
URL:https://zappelino.de/veranstaltungen/schulkunst-ausstellung-textil/
SUMMARY:SCHULKUNST-Ausstellung Textil
DESCRIPTION:Zum dritten Mal findet die SCHULKUNST-Ausstellung im Museum im 
 Deutschhof statt. Schülerinnen und Schüler aller Schularten der Region s
 ind aufgefordert\, sich mit dem Thema „Textil“ auseinanderzusetzen: vo
 m Faden und Gewebe bis hin zu grafischen oder malerischen Ansätzen.
ATTACH;FMTTYPE=image/jpeg:https://zappelino.de/wp-content/uploads/2026/02/
 schulkunst-2026.jpg
CATEGORIES:Bildung und Kultur
LOCATION:Museum im Deutschhof\, Deutschhofstraße 6\, Heilbronn\, Deutschla
 nd
GEO:49.140893;9.217715
X-APPLE-STRUCTURED-LOCATION;VALUE=URI;X-ADDRESS=Deutschhofstraße 6\, Heilb
 ronn\, Deutschland;X-APPLE-RADIUS=100;X-TITLE=Museum im Deutschhof:geo:49.
 140893,9.217715
END:VEVENT
BEGIN:VTIMEZONE
TZID:Europe/Berlin
X-LIC-LOCATION:Europe/Berlin
BEGIN:DAYLIGHT
DTSTART:20260329T030000
TZOFFSETFROM:+0100
TZOFFSETTO:+0200
TZNAME:CEST
END:DAYLIGHT
END:VTIMEZONE
END:VCALENDAR