BEGIN:VCALENDAR
VERSION:2.0
PRODID:-//wp-events-plugin.com//7.2.2.1//EN
TZID:Europe/Berlin
X-WR-TIMEZONE:Europe/Berlin
BEGIN:VEVENT
UID:3063@zappelino.de
DTSTART;TZID=Europe/Berlin:20260526T093000
DTEND;TZID=Europe/Berlin:20260526T114500
DTSTAMP:20260322T215723Z
URL:https://zappelino.de/veranstaltungen/solarautos-wir-bauen-flotte-flitz
 er-fuer-kinder-ab-8-jahren/
SUMMARY:Solarautos: Wir bauen flotte Flitzer! für Kinder ab 8 Jahren
DESCRIPTION:
ATTACH;FMTTYPE=image/jpeg:https://zappelino.de/wp-content/uploads/2025/02/
 vhs-logo.jpg
CATEGORIES:Bildung und Kultur
LOCATION:VHS Brackenheim\, Heilbronner Str. 36\, Brackenheim\, Deutschland
GEO:49.078287;9.068485
X-APPLE-STRUCTURED-LOCATION;VALUE=URI;X-ADDRESS=Heilbronner Str. 36\, Brack
 enheim\, Deutschland;X-APPLE-RADIUS=100;X-TITLE=VHS Brackenheim:geo:49.078
 287,9.068485
END:VEVENT
BEGIN:VTIMEZONE
TZID:Europe/Berlin
X-LIC-LOCATION:Europe/Berlin
BEGIN:DAYLIGHT
DTSTART:20260329T030000
TZOFFSETFROM:+0100
TZOFFSETTO:+0200
TZNAME:CEST
END:DAYLIGHT
END:VTIMEZONE
END:VCALENDAR