BEGIN:VCALENDAR
VERSION:2.0
PRODID:-//wp-events-plugin.com//7.2.2.1//EN
TZID:Europe/Berlin
X-WR-TIMEZONE:Europe/Berlin
BEGIN:VEVENT
UID:3238@zappelino.de
DTSTART;TZID=Europe/Berlin:20260806T090000
DTEND;TZID=Europe/Berlin:20260806T120000
DTSTAMP:20260419T211626Z
URL:https://zappelino.de/veranstaltungen/sommerferienkurse-5-12-jahre-1-wo
 che-4/
SUMMARY:Sommerferienkurse (5-12 Jahre) – 1. Woche
DESCRIPTION:\n\n\n\nSommerferienkurse (5-12 Jahre) – 1. Woche\n\n\n\n\n\n
 für Kinder von 5 - 12 Jahren\n\n\n\n\n\n\n\n\nIm gemeinsamen Spiel mit an
 deren Kindern werden die Grundlagen des Theaterspiels\nvermittelt. Mit vie
 l Spaß proben wir in herzlicher Atmosphäre ein Theaterstück ein. Die Ki
 nder üben mit großer Begeisterung das Spiel verschiedenster Rollen. Auch
  lautes und deutliches Sprechen\, sowie Teamwork und Ausdrucksfähigkeit s
 tehen im Mittelpunkt der Theaterarbeit. Die Kinder erlernen eine enorme Fl
 exibilität\, und die Trainer unterstützen die Kinder\, zu ihrer Fantasie
  und Kreativität zu stehen.\n\n\nUnser Theaterstück entsteht aus der Vor
 lage eines Märchens und wird inszeniert aus den spontanen Impulsen der Ki
 nder.\n\n\n\n\n\n\n\n\n\n\n\n\n
ATTACH;FMTTYPE=image/jpeg:https://zappelino.de/wp-content/uploads/2026/04/
 screenshot-2026-04-19-at-23-13-40-sommerferienkurse-5-12-jahre-1-woche-gal
 li-theater-backnang.jpg
CATEGORIES:Kindertheater, Kinderkonzert
LOCATION:Galli Theater\, Oelberg 12\, Backnang\, 71522\, Deutschland
GEO:48.946512;9.431521
X-APPLE-STRUCTURED-LOCATION;VALUE=URI;X-ADDRESS=Oelberg 12\, Backnang\, 715
 22\, Deutschland;X-APPLE-RADIUS=100;X-TITLE=Galli Theater:geo:48.946512,9.
 431521
END:VEVENT
BEGIN:VTIMEZONE
TZID:Europe/Berlin
X-LIC-LOCATION:Europe/Berlin
BEGIN:DAYLIGHT
DTSTART:20260329T030000
TZOFFSETFROM:+0100
TZOFFSETTO:+0200
TZNAME:CEST
END:DAYLIGHT
END:VTIMEZONE
END:VCALENDAR