BEGIN:VCALENDAR
VERSION:2.0
PRODID:-//wp-events-plugin.com//7.2.2.1//EN
TZID:Europe/Berlin
X-WR-TIMEZONE:Europe/Berlin
BEGIN:VEVENT
UID:2977@zappelino.de
DTSTART;TZID=Europe/Berlin:20260531T113000
DTEND;TZID=Europe/Berlin:20260531T123000
DTSTAMP:20260317T141147Z
URL:https://zappelino.de/veranstaltungen/sonntagsfuehrung-in-der-ausstellu
 ng-ernst-franz-vogelmann-preis-2026-andrea-pichl-deutsch-deutsch/
SUMMARY:Sonntagsführung in der Ausstellung Ernst Franz Vogelmann-Preis 20
 26 Andrea Pichl  deutsch deutsch.
DESCRIPTION:Die Werke der in der DDR sozialisierten Künstlerin beschäftig
 en sich mit Architektur\, Stadtplanung und sozialen Räumen.\n\n3 Euro zzg
 l. Eintritt.
ATTACH;FMTTYPE=image/jpeg:https://zappelino.de/wp-content/uploads/2026/03/
 andrea-pichl-gartenlaube-gl-19-2024-vg-bild-kunst-bonn-2026-foto-marcus-ba
 hra.jpg
CATEGORIES:Bildung und Kultur
LOCATION:Kunsthalle Vogelmann\, Allee 28\, Heilbronn\, Deutschland
GEO:49.142556;9.223674
X-APPLE-STRUCTURED-LOCATION;VALUE=URI;X-ADDRESS=Allee 28\, Heilbronn\, Deut
 schland;X-APPLE-RADIUS=100;X-TITLE=Kunsthalle Vogelmann:geo:49.142556,9.22
 3674
END:VEVENT
BEGIN:VTIMEZONE
TZID:Europe/Berlin
X-LIC-LOCATION:Europe/Berlin
BEGIN:DAYLIGHT
DTSTART:20260329T030000
TZOFFSETFROM:+0100
TZOFFSETTO:+0200
TZNAME:CEST
END:DAYLIGHT
END:VTIMEZONE
END:VCALENDAR