BEGIN:VCALENDAR
VERSION:2.0
PRODID:-//wp-events-plugin.com//7.2.2.1//EN
TZID:Europe/Berlin
X-WR-TIMEZONE:Europe/Berlin
BEGIN:VEVENT
UID:2913@zappelino.de
DTSTART;TZID=Europe/Berlin:20260425T110000
DTEND;TZID=Europe/Berlin:20260425T130000
DTSTAMP:20260306T172150Z
URL:https://zappelino.de/veranstaltungen/sortierter-kinderkleider-basar/
SUMMARY:Sortierter Kinderkleider Basar
DESCRIPTION:Alles rund ums Kind: Klamotten\,Schuhe\,Spielzeug\,Puzzle\,Büc
 her werden verkauft.
ATTACH;FMTTYPE=image/jpeg:https://zappelino.de/wp-content/uploads/2026/03/
 screenshot-2026-03-04-195843.jpg
CATEGORIES:Basar
LOCATION:Bürgerhaus Kochersteinsfeld\, Lampoldshausenerstrasse 8\, Hardtha
 usen am Kocher\, 74239\, Deutschland
X-APPLE-STRUCTURED-LOCATION;VALUE=URI;X-ADDRESS=Lampoldshausenerstrasse 8\,
  Hardthausen am Kocher\, 74239\, Deutschland;X-APPLE-RADIUS=100;X-TITLE=B
 ürgerhaus Kochersteinsfeld:geo:0,0
END:VEVENT
BEGIN:VTIMEZONE
TZID:Europe/Berlin
X-LIC-LOCATION:Europe/Berlin
BEGIN:DAYLIGHT
DTSTART:20260329T030000
TZOFFSETFROM:+0100
TZOFFSETTO:+0200
TZNAME:CEST
END:DAYLIGHT
END:VTIMEZONE
END:VCALENDAR