BEGIN:VCALENDAR
VERSION:2.0
PRODID:-//wp-events-plugin.com//7.2.2.1//EN
TZID:Europe/Berlin
X-WR-TIMEZONE:Europe/Berlin
BEGIN:VEVENT
UID:2820@zappelino.de
DTSTART;TZID=Europe/Berlin:20260425T163000
DTEND;TZID=Europe/Berlin:20260425T170500
DTSTAMP:20260222T213501Z
URL:https://zappelino.de/veranstaltungen/spektakulair-live-18/
SUMMARY:SpektakulAIR – Live
DESCRIPTION:Vom schwebenden Wasserglas über Wirbelringe bis zur Fahrt mit 
 einem echten Hovercraft: In unserer Liveshow „SpektakulAIR“ zeigen wir
  spannende Experimente rund um Luft und Bewegung – und verbinden Humor m
 it Wissenschaft! Mit Hilfe von Luftdruck\, Zentripetalkraft und dem Rücks
 toßprinzip erfährst du\, wie Dinge schweben\, fliegen und rotieren. Erle
 be Physik zum Staunen\, wenn wir Hündin Laika in einer Vakuumkanone „zu
 m Mond“ schicken und einen Feuertornado erzeugen.\n\nAb 6 Jahren.\n\nVer
 anstaltungsort: Science Dome (e1)\nVeranstaltungskosten: 6\,00 Euro Erwach
 sene / 4\,00 Euro ermäßigt
ATTACH;FMTTYPE=image/jpeg:https://zappelino.de/wp-content/uploads/2026/02/
 screenshot-2026-02-22-at-22-27-20-spektakulair-live-experimenta.jpg
CATEGORIES:Bildung und Kultur
LOCATION:Experimenta\, Experimenta Platz\, Heilbronn\, Deutschland
GEO:49.1442;9.21493
X-APPLE-STRUCTURED-LOCATION;VALUE=URI;X-ADDRESS=Experimenta Platz\, Heilbro
 nn\, Deutschland;X-APPLE-RADIUS=100;X-TITLE=Experimenta:geo:49.1442,9.2149
 3
END:VEVENT
BEGIN:VTIMEZONE
TZID:Europe/Berlin
X-LIC-LOCATION:Europe/Berlin
BEGIN:DAYLIGHT
DTSTART:20260329T030000
TZOFFSETFROM:+0100
TZOFFSETTO:+0200
TZNAME:CEST
END:DAYLIGHT
END:VTIMEZONE
END:VCALENDAR