BEGIN:VCALENDAR
VERSION:2.0
PRODID:-//wp-events-plugin.com//7.2.2.1//EN
TZID:Europe/Berlin
X-WR-TIMEZONE:Europe/Berlin
BEGIN:VEVENT
UID:3161@zappelino.de
DTSTART;TZID=Europe/Berlin:20260528T093000
DTEND;TZID=Europe/Berlin:20260528T123000
DTSTAMP:20260406T202720Z
URL:https://zappelino.de/veranstaltungen/spiel-und-spass-mit-dem-pony-fuer
 -kinder-von-6-10-jahren-2/
SUMMARY:Spiel und Spaß mit dem Pony für Kinder von 6 - 10 Jahren
DESCRIPTION:
ATTACH;FMTTYPE=image/jpeg:https://zappelino.de/wp-content/uploads/2025/02/
 vhs-logo.jpg
CATEGORIES:Bewegung und Spielen
LOCATION:VHS Schwaigern Massenbach\, Altes Rathaus\, Massenbachhausen\, Deu
 tschland
GEO:49.175732;9.046536
X-APPLE-STRUCTURED-LOCATION;VALUE=URI;X-ADDRESS=Altes Rathaus\, Massenbachh
 ausen\, Deutschland;X-APPLE-RADIUS=100;X-TITLE=VHS Schwaigern Massenbach:g
 eo:49.175732,9.046536
END:VEVENT
BEGIN:VTIMEZONE
TZID:Europe/Berlin
X-LIC-LOCATION:Europe/Berlin
BEGIN:DAYLIGHT
DTSTART:20260329T030000
TZOFFSETFROM:+0100
TZOFFSETTO:+0200
TZNAME:CEST
END:DAYLIGHT
END:VTIMEZONE
END:VCALENDAR