BEGIN:VCALENDAR
VERSION:2.0
PRODID:-//wp-events-plugin.com//7.2.2.1//EN
TZID:Europe/Berlin
X-WR-TIMEZONE:Europe/Berlin
BEGIN:VEVENT
UID:3180@zappelino.de
DTSTART;TZID=Europe/Berlin:20260509T103000
DTEND;TZID=Europe/Berlin:20260509T130000
DTSTAMP:20260406T203940Z
URL:https://zappelino.de/veranstaltungen/streifzug-durch-den-wald-naturerl
 ebnis-fuer-vorschul-und-grundschulkinder/
SUMMARY:Streifzug durch den Wald Naturerlebnis für Vorschul- und Grundschu
 lkinder
DESCRIPTION:
ATTACH;FMTTYPE=image/jpeg:https://zappelino.de/wp-content/uploads/2025/02/
 vhs-logo.jpg
CATEGORIES:Erlebnisführung
LOCATION:VHS Eberstadt\, Allee 40\, Heilbronn\, Deutschland
GEO:49.143605;9.223505
X-APPLE-STRUCTURED-LOCATION;VALUE=URI;X-ADDRESS=Allee 40\, Heilbronn\, Deut
 schland;X-APPLE-RADIUS=100;X-TITLE=VHS Eberstadt:geo:49.143605,9.223505
END:VEVENT
BEGIN:VTIMEZONE
TZID:Europe/Berlin
X-LIC-LOCATION:Europe/Berlin
BEGIN:DAYLIGHT
DTSTART:20260329T030000
TZOFFSETFROM:+0100
TZOFFSETTO:+0200
TZNAME:CEST
END:DAYLIGHT
END:VTIMEZONE
END:VCALENDAR