BEGIN:VCALENDAR
VERSION:2.0
PRODID:-//wp-events-plugin.com//7.2.2.1//EN
TZID:Europe/Berlin
X-WR-TIMEZONE:Europe/Berlin
BEGIN:VEVENT
UID:2260@zappelino.de
DTSTART;TZID=Europe/Berlin:20260424T100000
DTEND;TZID=Europe/Berlin:20260424T110000
DTSTAMP:20251215T221054Z
URL:https://zappelino.de/veranstaltungen/talib-und-das-windfahrrad-2/
SUMMARY:Talib und das Windfahrrad
DESCRIPTION:\n\n\n\n\n\nNach einer wahren Geschichte aus Malawi\n\n\n\n\n\n
 \n\n\n\nDer junge Talib hat eine ungewöhnliche Idee: Ein selbstgebautes W
 indrad soll Strom bringen! Doch niemand traut ihm das zu. Mit Erfindungsge
 ist\, Ausdauer und Mut zeigt er\, was möglich ist\, wenn man nicht aufgib
 t.\nGastspiel von Cosima Greeven\n\n\n\n\n\n\n\n\n8 bis 12 Jahre\n\n\nDaue
 r: 60 Minuten\n\n\n\n\n
ATTACH;FMTTYPE=image/jpeg:https://zappelino.de/wp-content/uploads/2025/12/
 talibwindrad-mit-cosima-web-1536x1025-1.webp
CATEGORIES:Kindertheater, Kinderkonzert
LOCATION:Eppinger Figurentheater\, Ludwig-Zorn-Straße 10\, Eppingen\, 7503
 1\, Deutschland
GEO:49.137392;8.907127
X-APPLE-STRUCTURED-LOCATION;VALUE=URI;X-ADDRESS=Ludwig-Zorn-Straße 10\, Ep
 pingen\, 75031\, Deutschland;X-APPLE-RADIUS=100;X-TITLE=Eppinger Figurenth
 eater:geo:49.137392,8.907127
END:VEVENT
BEGIN:VTIMEZONE
TZID:Europe/Berlin
X-LIC-LOCATION:Europe/Berlin
BEGIN:DAYLIGHT
DTSTART:20260329T030000
TZOFFSETFROM:+0100
TZOFFSETTO:+0200
TZNAME:CEST
END:DAYLIGHT
END:VTIMEZONE
END:VCALENDAR