BEGIN:VCALENDAR
VERSION:2.0
PRODID:-//wp-events-plugin.com//7.2.2.1//EN
TZID:Europe/Berlin
X-WR-TIMEZONE:Europe/Berlin
BEGIN:VEVENT
UID:3092@zappelino.de
DTSTART;TZID=Europe/Berlin:20260515T100000
DTEND;TZID=Europe/Berlin:20260515T104500
DTSTAMP:20260406T193035Z
URL:https://zappelino.de/veranstaltungen/tanzmaeuse-spielerisches-tanzen-f
 uer-die-kleinsten-fuer-kinder-von-20-monaten-bis-3-jahren-mit-einer-bezugs
 person-2026-04-17-2026-04-24-2026-05-01-2026-05-08-2026-05-15/
SUMMARY:Tanzmäuse: Spielerisches Tanzen für die Kleinsten Für Kinder von
  20 Monaten bis 3 Jahren mit einer Bezugsperson
DESCRIPTION:
ATTACH;FMTTYPE=image/jpeg:https://zappelino.de/wp-content/uploads/2025/02/
 vhs-logo.jpg
CATEGORIES:Bewegung und Spielen
LOCATION:VHS Oberstenfeld\, Eschachhütte\, Oberstenfeld\, 71720\, Deutschl
 and
GEO:49.024245;9.321666
X-APPLE-STRUCTURED-LOCATION;VALUE=URI;X-ADDRESS=Eschachhütte\, Oberstenfel
 d\, 71720\, Deutschland;X-APPLE-RADIUS=100;X-TITLE=VHS Oberstenfeld:geo:49
 .024245,9.321666
END:VEVENT
BEGIN:VTIMEZONE
TZID:Europe/Berlin
X-LIC-LOCATION:Europe/Berlin
BEGIN:DAYLIGHT
DTSTART:20260329T030000
TZOFFSETFROM:+0100
TZOFFSETTO:+0200
TZNAME:CEST
END:DAYLIGHT
END:VTIMEZONE
END:VCALENDAR