BEGIN:VCALENDAR
VERSION:2.0
PRODID:-//wp-events-plugin.com//7.2.2.1//EN
TZID:Europe/Berlin
X-WR-TIMEZONE:Europe/Berlin
BEGIN:VEVENT
UID:3106@zappelino.de
DTSTART;TZID=Europe/Berlin:20260425T100000
DTEND;TZID=Europe/Berlin:20260425T130000
DTSTAMP:20260406T195207Z
URL:https://zappelino.de/veranstaltungen/trikot-bemalen-zur-wm-2026-fuer-k
 inder-ab-8-jahren/
SUMMARY:Trikot bemalen zur WM 2026 für Kinder ab 8 Jahren
DESCRIPTION:
ATTACH;FMTTYPE=image/jpeg:https://zappelino.de/wp-content/uploads/2025/02/
 vhs-logo.jpg
CATEGORIES:Kreatives
LOCATION:VHS Bad Friedrichshall\, Hauptstr. 4\, Bad Friedrichshall\, Deutsc
 hland
GEO:49.224879;9.217889
X-APPLE-STRUCTURED-LOCATION;VALUE=URI;X-ADDRESS=Hauptstr. 4\, Bad Friedrich
 shall\, Deutschland;X-APPLE-RADIUS=100;X-TITLE=VHS Bad Friedrichshall:geo:
 49.224879,9.217889
END:VEVENT
BEGIN:VTIMEZONE
TZID:Europe/Berlin
X-LIC-LOCATION:Europe/Berlin
BEGIN:DAYLIGHT
DTSTART:20260329T030000
TZOFFSETFROM:+0100
TZOFFSETTO:+0200
TZNAME:CEST
END:DAYLIGHT
END:VTIMEZONE
END:VCALENDAR