BEGIN:VCALENDAR
VERSION:2.0
PRODID:-//wp-events-plugin.com//7.2.2.1//EN
TZID:Europe/Berlin
X-WR-TIMEZONE:Europe/Berlin
BEGIN:VEVENT
UID:2952@zappelino.de
DTSTART;TZID=Europe/Berlin:20260430T153000
DTEND;TZID=Europe/Berlin:20260430T163000
DTSTAMP:20260311T215506Z
URL:https://zappelino.de/veranstaltungen/turnen-fuer-kinder-von-5-7-jahren
 -2026-04-16-2026-04-23-2026-04-30/
SUMMARY:Turnen für Kinder von 5 - 7 Jahren
DESCRIPTION:
ATTACH;FMTTYPE=image/jpeg:https://zappelino.de/wp-content/uploads/2025/02/
 vhs-logo.jpg
CATEGORIES:Bewegung und Spielen
LOCATION:VHS Obersulm\, Rathausgasse 4\, Obersulm\, Deutschland
GEO:49.132953;9.377622
X-APPLE-STRUCTURED-LOCATION;VALUE=URI;X-ADDRESS=Rathausgasse 4\, Obersulm\,
  Deutschland;X-APPLE-RADIUS=100;X-TITLE=VHS Obersulm:geo:49.132953,9.37762
 2
END:VEVENT
BEGIN:VTIMEZONE
TZID:Europe/Berlin
X-LIC-LOCATION:Europe/Berlin
BEGIN:DAYLIGHT
DTSTART:20260329T030000
TZOFFSETFROM:+0100
TZOFFSETTO:+0200
TZNAME:CEST
END:DAYLIGHT
END:VTIMEZONE
END:VCALENDAR