BEGIN:VCALENDAR
VERSION:2.0
PRODID:-//wp-events-plugin.com//7.2.2.1//EN
TZID:Europe/Berlin
X-WR-TIMEZONE:Europe/Berlin
BEGIN:VEVENT
UID:2984@zappelino.de
DTSTART;TZID=Europe/Berlin:20260521T180000
DTEND;TZID=Europe/Berlin:20260521T180000
DTSTAMP:20260318T135459Z
URL:https://zappelino.de/veranstaltungen/vernissage-der-ausstellung-die-se
 herin-von-prevorst-eine-frau-wird-zum-mythos/
SUMMARY:Vernissage der Ausstellung Die Seherin von Prevorst – eine Frau w
 ird zum Mythos
DESCRIPTION:Die Ausstellung beleuchtet mit Bildern und Dokumenten\, wie Fri
 ederike Hauffe\, die berühmte Patientin des Arztes und Schriftstellers Ju
 stinus Kerner in Weinsberg\, als „Seherin von Prevorst“ zu einem kultu
 rgeschichtlichen Phänomen des 19. Jahrhunderts avancierte.\n\nKostenfrei
ATTACH;FMTTYPE=image/jpeg:https://zappelino.de/wp-content/uploads/2026/03/
 gabriel-von-max-die-seherin-von-prevorst-im-schauenden-zustand-detail-1895
 -sammlung-plock-courtesy-kunkel-fine-art-muenchen-foto-walter-bayer.jpg
CATEGORIES:Bildung und Kultur
LOCATION:Museum im Deutschhof\, Deutschhofstraße 6\, Heilbronn\, Deutschla
 nd
GEO:49.140893;9.217715
X-APPLE-STRUCTURED-LOCATION;VALUE=URI;X-ADDRESS=Deutschhofstraße 6\, Heilb
 ronn\, Deutschland;X-APPLE-RADIUS=100;X-TITLE=Museum im Deutschhof:geo:49.
 140893,9.217715
END:VEVENT
BEGIN:VTIMEZONE
TZID:Europe/Berlin
X-LIC-LOCATION:Europe/Berlin
BEGIN:DAYLIGHT
DTSTART:20260329T030000
TZOFFSETFROM:+0100
TZOFFSETTO:+0200
TZNAME:CEST
END:DAYLIGHT
END:VTIMEZONE
END:VCALENDAR