BEGIN:VCALENDAR
VERSION:2.0
PRODID:-//wp-events-plugin.com//7.2.2.1//EN
TZID:Europe/Berlin
X-WR-TIMEZONE:Europe/Berlin
BEGIN:VEVENT
UID:2761@zappelino.de
DTSTART;TZID=Europe/Berlin:20260425T140000
DTEND;TZID=Europe/Berlin:20260425T160000
DTSTAMP:20260216T142955Z
URL:https://zappelino.de/veranstaltungen/von-zwergengefluester-und-riesens
 chritten-waldabenteuer-durch-magische-welten/
SUMMARY:Von Zwergengeflüster und Riesenschritten - Waldabenteuer durch mag
 ische Welten
DESCRIPTION:Bei diesem Abenteuer im Wald tauchen die Kinder in die geheimni
 svolle Welt magischer Begegnungen ein. Denn\, Oh Schreck - die frechen Zwe
 rge haben der Märchenhexe Steffi die Erzählsteine und Schatzkiste gestoh
 len. Nun braucht sie die Hilfe der Kinder\, um die kleinen Diebe zu finden
 . Gemeinsam wandern sie durch den Wald\, erfahren wie man das unsichtbare 
 kleine Volk sehen kann. Sie finden winzige Mützchen und suchen vierblätt
 rige Kleeblätter\, denn das alles kann helfen das räuberische kleine Vol
 k zu finden. Unterwegs lauschen die Kinder Märchen von Zwergen\, Riesen u
 nd kleinen Helden\, die Großes bewirken. Vielleicht treffen sie am Ende s
 ogar den diebischen Zwerg und alle teilen den entführten Schatz. Ein zaub
 erhaftes Abenteuer\, das die Fantasie und Kreativität anregt und das Mite
 inander stärkt.\n\nFür Kinder ab 4 Jahren mit Begleitperson\n\nAnmeldung
  jeweils über das Haus der Familie HN: https://hdf-hn.de/kurse/?s=Ruber&a
 mp\;limit=12&amp\;keyword=&amp\;kategorie_id=&amp\;thema_id=&amp\;fachb=&a
 mp\;ortname=&amp\;beginndat=
ATTACH;FMTTYPE=image/jpeg:https://zappelino.de/wp-content/uploads/2026/02/
 zwerge-stefanie-keller-wortzauber-18-6f0389cdecff3de8c7e900ff6853c185.jpg
CATEGORIES:Bildung und Kultur,Kindertheater,
 Kinderkonzert,Kreatives,Natur,Theater
LOCATION:Heilbronn Gaffenberg\, Treffpunkt Bushaltestelle Gaffenberg\, Heil
 bronn\, Deutschland
GEO:49.124;9.24777
X-APPLE-STRUCTURED-LOCATION;VALUE=URI;X-ADDRESS=Treffpunkt Bushaltestelle G
 affenberg\, Heilbronn\, Deutschland;X-APPLE-RADIUS=100;X-TITLE=Heilbronn G
 affenberg:geo:49.124,9.24777
END:VEVENT
BEGIN:VTIMEZONE
TZID:Europe/Berlin
X-LIC-LOCATION:Europe/Berlin
BEGIN:DAYLIGHT
DTSTART:20260329T030000
TZOFFSETFROM:+0100
TZOFFSETTO:+0200
TZNAME:CEST
END:DAYLIGHT
END:VTIMEZONE
END:VCALENDAR