BEGIN:VCALENDAR
VERSION:2.0
PRODID:-//wp-events-plugin.com//7.2.2.1//EN
TZID:Europe/Berlin
X-WR-TIMEZONE:Europe/Berlin
BEGIN:VEVENT
UID:2986@zappelino.de
DTSTART;TZID=Europe/Berlin:20260531T110000
DTEND;TZID=Europe/Berlin:20260531T110000
DTSTAMP:20260318T140118Z
URL:https://zappelino.de/veranstaltungen/vortrag-die-seherin-von-prevorst-
 und-ihr-familiaerer-hintergrund/
SUMMARY:Vortrag „Die Seherin von Prevorst und ihr familiärer Hintergrund
 “
DESCRIPTION:Der Historiker Dr. Bernd Liebig vom Kernerhaus in Weinsberg bel
 euchtet in seinem kurzweiligen Vortrag die familiären Hintergründe von F
 riederike Hauffe\, die aufgrund ihrer angeblich paranormalen Fähigkeiten 
 als „Seherin von Prevorst“ berühmt wurde.\n4 Euro pro Person
ATTACH;FMTTYPE=image/jpeg:https://zappelino.de/wp-content/uploads/2026/03/
 gabriel-von-max-die-seherin-von-prevorst-im-schauenden-zustand-detail-1895
 -sammlung-plock-courtesy-kunkel-fine-art-muenchen-foto-walter-bayer.jpg
CATEGORIES:Bildung und Kultur
LOCATION:Museum im Deutschhof\, Deutschhofstraße 6\, Heilbronn\, Deutschla
 nd
GEO:49.140893;9.217715
X-APPLE-STRUCTURED-LOCATION;VALUE=URI;X-ADDRESS=Deutschhofstraße 6\, Heilb
 ronn\, Deutschland;X-APPLE-RADIUS=100;X-TITLE=Museum im Deutschhof:geo:49.
 140893,9.217715
END:VEVENT
BEGIN:VTIMEZONE
TZID:Europe/Berlin
X-LIC-LOCATION:Europe/Berlin
BEGIN:DAYLIGHT
DTSTART:20260329T030000
TZOFFSETFROM:+0100
TZOFFSETTO:+0200
TZNAME:CEST
END:DAYLIGHT
END:VTIMEZONE
END:VCALENDAR