BEGIN:VCALENDAR
VERSION:2.0
PRODID:-//wp-events-plugin.com//7.2.2.1//EN
TZID:Europe/Berlin
X-WR-TIMEZONE:Europe/Berlin
BEGIN:VEVENT
UID:3118@zappelino.de
DTSTART;TZID=Europe/Berlin:20260502T140000
DTEND;TZID=Europe/Berlin:20260502T170000
DTSTAMP:20260406T200412Z
URL:https://zappelino.de/veranstaltungen/waldexkursion-im-brettacher-wald-
 fuer-kinder-ab-6-jahren-mit-begleitung/
SUMMARY:Waldexkursion - im Brettacher Wald für Kinder ab 6 Jahren mit Begl
 eitung
DESCRIPTION:
ATTACH;FMTTYPE=image/jpeg:https://zappelino.de/wp-content/uploads/2025/02/
 vhs-logo.jpg
CATEGORIES:Bewegung und Spielen
LOCATION:VHS Langenbrettach/Langenbeutigen\, Schillerstraße 1\, Langenbret
 tach\, Deutschland
GEO:49.226138;9.381828
X-APPLE-STRUCTURED-LOCATION;VALUE=URI;X-ADDRESS=Schillerstraße 1\, Langenb
 rettach\, Deutschland;X-APPLE-RADIUS=100;X-TITLE=VHS Langenbrettach/Langen
 beutigen:geo:49.226138,9.381828
END:VEVENT
BEGIN:VTIMEZONE
TZID:Europe/Berlin
X-LIC-LOCATION:Europe/Berlin
BEGIN:DAYLIGHT
DTSTART:20260329T030000
TZOFFSETFROM:+0100
TZOFFSETTO:+0200
TZNAME:CEST
END:DAYLIGHT
END:VTIMEZONE
END:VCALENDAR