BEGIN:VCALENDAR
VERSION:2.0
PRODID:-//wp-events-plugin.com//7.2.2.1//EN
TZID:Europe/Berlin
X-WR-TIMEZONE:Europe/Berlin
BEGIN:VEVENT
UID:2757@zappelino.de
DTSTART;TZID=Europe/Berlin:20260426T103000
DTEND;TZID=Europe/Berlin:20260426T105800
DTSTAMP:20260215T213547Z
URL:https://zappelino.de/veranstaltungen/wie-fische-laufen-lernten-23/
SUMMARY:Wie Fische laufen lernten
DESCRIPTION:Das kleine Bärenmädchen Eva ist traurig. Die Wölfe auf dem S
 pielplatz schikanieren sie und Eva hat Angst sich zu wehren. Da erzählt i
 hre Mutter ihr die Geschichte von drei mutigen kleinen Lebewesen\, die den
  Lauf der Welt verändert haben.\n\nDer Animationsfilm zeigt auf berühren
 de Weise die Wunder der Evolution. Komm mit auf diese faszinierende Reise 
 und erfahre\, wie alles Leben auf der Erde begonnen hat. Wie Eva wirst du 
 erkennen\, dass selbst die Allerkleinsten Großes bewirken und alles ände
 rn können.\n\nAb 8 Jahren
ATTACH;FMTTYPE=image/jpeg:https://zappelino.de/wp-content/uploads/2026/02/
 screenshot-2026-02-15-at-22-20-09-wie-fische-laufen-lernten-experimenta.jp
 g
CATEGORIES:Kino
LOCATION:Experimenta\, Experimenta Platz\, Heilbronn\, Deutschland
GEO:49.1442;9.21493
X-APPLE-STRUCTURED-LOCATION;VALUE=URI;X-ADDRESS=Experimenta Platz\, Heilbro
 nn\, Deutschland;X-APPLE-RADIUS=100;X-TITLE=Experimenta:geo:49.1442,9.2149
 3
END:VEVENT
BEGIN:VTIMEZONE
TZID:Europe/Berlin
X-LIC-LOCATION:Europe/Berlin
BEGIN:DAYLIGHT
DTSTART:20260329T030000
TZOFFSETFROM:+0100
TZOFFSETTO:+0200
TZNAME:CEST
END:DAYLIGHT
END:VTIMEZONE
END:VCALENDAR