BEGIN:VCALENDAR
VERSION:2.0
PRODID:-//wp-events-plugin.com//7.2.2.1//EN
TZID:Europe/Berlin
X-WR-TIMEZONE:Europe/Berlin
BEGIN:VEVENT
UID:2878@zappelino.de
DTSTART;TZID=Europe/Berlin:20260424T160000
DTEND;TZID=Europe/Berlin:20260424T162600
DTSTAMP:20260222T221334Z
URL:https://zappelino.de/veranstaltungen/wir-sind-sterne-3d-57/
SUMMARY:Wir sind Sterne – 3D
DESCRIPTION:\n\n\nWoher kommt der Mensch? Woraus besteht er? Wo liegt unser
  Ursprung? In „Wir sind Sterne – 3D“ unternimmst du eine Reise durch
  Raum und Zeit und erlebst das Universum aus einem neuen Blickwinkel. Erku
 nde die Geheimnisse der kosmischen Chemie in uns und ihren explosiven Ursp
 rung.\n\nThema Sterne\, Kosmologie\, Atommodell.\nAb 8 Jahren\n\n\n
ATTACH;FMTTYPE=image/jpeg:https://zappelino.de/wp-content/uploads/2025/04/
 screenshot-2025-04-14-at-21-14-33-wir-sind-sterne-3d-experimenta.jpg
CATEGORIES:Kino
LOCATION:Experimenta\, Experimenta Platz\, Heilbronn\, Deutschland
GEO:49.1442;9.21493
X-APPLE-STRUCTURED-LOCATION;VALUE=URI;X-ADDRESS=Experimenta Platz\, Heilbro
 nn\, Deutschland;X-APPLE-RADIUS=100;X-TITLE=Experimenta:geo:49.1442,9.2149
 3
END:VEVENT
BEGIN:VTIMEZONE
TZID:Europe/Berlin
X-LIC-LOCATION:Europe/Berlin
BEGIN:DAYLIGHT
DTSTART:20260329T030000
TZOFFSETFROM:+0100
TZOFFSETTO:+0200
TZNAME:CEST
END:DAYLIGHT
END:VTIMEZONE
END:VCALENDAR